BEGIN:VCALENDAR
VERSION:2.0
PRODID:-//Teamsters Local 493 - ECPv6.15.20//NONSGML v1.0//EN
CALSCALE:GREGORIAN
METHOD:PUBLISH
X-ORIGINAL-URL:https://teamsters493.org
X-WR-CALDESC:Events for Teamsters Local 493
REFRESH-INTERVAL;VALUE=DURATION:PT1H
X-Robots-Tag:noindex
X-PUBLISHED-TTL:PT1H
BEGIN:VTIMEZONE
TZID:America/New_York
BEGIN:DAYLIGHT
TZOFFSETFROM:-0500
TZOFFSETTO:-0400
TZNAME:EDT
DTSTART:20240310T070000
END:DAYLIGHT
BEGIN:STANDARD
TZOFFSETFROM:-0400
TZOFFSETTO:-0500
TZNAME:EST
DTSTART:20241103T060000
END:STANDARD
BEGIN:DAYLIGHT
TZOFFSETFROM:-0500
TZOFFSETTO:-0400
TZNAME:EDT
DTSTART:20250309T070000
END:DAYLIGHT
BEGIN:STANDARD
TZOFFSETFROM:-0400
TZOFFSETTO:-0500
TZNAME:EST
DTSTART:20251102T060000
END:STANDARD
BEGIN:DAYLIGHT
TZOFFSETFROM:-0500
TZOFFSETTO:-0400
TZNAME:EDT
DTSTART:20260308T070000
END:DAYLIGHT
BEGIN:STANDARD
TZOFFSETFROM:-0400
TZOFFSETTO:-0500
TZNAME:EST
DTSTART:20261101T060000
END:STANDARD
BEGIN:DAYLIGHT
TZOFFSETFROM:-0500
TZOFFSETTO:-0400
TZNAME:EDT
DTSTART:20270314T070000
END:DAYLIGHT
BEGIN:STANDARD
TZOFFSETFROM:-0400
TZOFFSETTO:-0500
TZNAME:EST
DTSTART:20271107T060000
END:STANDARD
END:VTIMEZONE
BEGIN:VEVENT
DTSTART;TZID=America/New_York:20260308T100000
DTEND;TZID=America/New_York:20260308T100000
DTSTAMP:20260422T120358
CREATED:20220205T133841Z
LAST-MODIFIED:20250505T152707Z
UID:518-1772964000-1772964000@teamsters493.org
SUMMARY:Quarterly Membership Meeting
DESCRIPTION:
URL:https://teamsters493.org/event/quarterly-membership-meeting-8/
LOCATION:Polish Club\, 85 Maple Ave\, Uncasville\, United States
CATEGORIES:Quarterly Meetings
END:VEVENT
BEGIN:VEVENT
DTSTART;TZID=America/New_York:20260304T080000
DTEND;TZID=America/New_York:20260304T170000
DTSTAMP:20260422T120358
CREATED:20260304T162113Z
LAST-MODIFIED:20260304T162113Z
UID:768-1772611200-1772643600@teamsters493.org
SUMMARY:Quarterly Membership Meeting - Sunday June 7\, 2026
DESCRIPTION:
URL:https://teamsters493.org/event/quarterly-membership-meeting-sunday-june-7-2026/
CATEGORIES:Events
END:VEVENT
BEGIN:VEVENT
DTSTART;TZID=America/New_York:20251214T100000
DTEND;TZID=America/New_York:20251214T100000
DTSTAMP:20260422T120358
CREATED:20210131T161443Z
LAST-MODIFIED:20250505T152539Z
UID:330-1765706400-1765706400@teamsters493.org
SUMMARY:Quarterly Membership Meeting
DESCRIPTION:
URL:https://teamsters493.org/event/quarterly-membership-meeting-4/
CATEGORIES:Quarterly Meetings
END:VEVENT
BEGIN:VEVENT
DTSTART;TZID=America/New_York:20251204T090000
DTEND;TZID=America/New_York:20251204T133000
DTSTAMP:20260422T120358
CREATED:20210131T163115Z
LAST-MODIFIED:20250505T153739Z
UID:356-1764838800-1764855000@teamsters493.org
SUMMARY:Pension Schedule Date
DESCRIPTION:
URL:https://teamsters493.org/event/pension-schedule-date-13/
LOCATION:Conference call\, United States
CATEGORIES:Pension Schedule Dates
END:VEVENT
BEGIN:VEVENT
DTSTART;TZID=America/New_York:20251106T080000
DTEND;TZID=America/New_York:20251106T170000
DTSTAMP:20260422T120358
CREATED:20221103T113253Z
LAST-MODIFIED:20250505T153804Z
UID:586-1762416000-1762448400@teamsters493.org
SUMMARY:Pension Schedule Date
DESCRIPTION:
URL:https://teamsters493.org/event/pension-schedule-date-5/
LOCATION:Conference call\, United States
CATEGORIES:Pension Schedule Dates
END:VEVENT
BEGIN:VEVENT
DTSTART;TZID=America/New_York:20251009T090000
DTEND;TZID=America/New_York:20251009T133000
DTSTAMP:20260422T120358
CREATED:20210131T162824Z
LAST-MODIFIED:20250505T153838Z
UID:350-1760000400-1760016600@teamsters493.org
SUMMARY:Pension Schedule Date
DESCRIPTION:
URL:https://teamsters493.org/event/pension-schedule-date-10/
LOCATION:Teamsters Local 493 Union Hall\, 18 Crescent Street\, Uncasville\, CT\, 06382\, United States
CATEGORIES:Pension Schedule Dates
END:VEVENT
BEGIN:VEVENT
DTSTART;TZID=America/New_York:20250914T100000
DTEND;TZID=America/New_York:20250914T100000
DTSTAMP:20260422T120358
CREATED:20220205T133759Z
LAST-MODIFIED:20250505T152526Z
UID:516-1757844000-1757844000@teamsters493.org
SUMMARY:Quarterly Membership Meeting
DESCRIPTION:
URL:https://teamsters493.org/event/quarterly-membership-meeting-7/
LOCATION:Polish Club\, 85 Maple Ave\, Uncasville\, United States
CATEGORIES:Quarterly Meetings
END:VEVENT
BEGIN:VEVENT
DTSTART;TZID=America/New_York:20250904T090000
DTEND;TZID=America/New_York:20250904T133000
DTSTAMP:20260422T120358
CREATED:20210131T162952Z
LAST-MODIFIED:20250505T154027Z
UID:352-1756976400-1756992600@teamsters493.org
SUMMARY:Pension Schedule Date
DESCRIPTION:
URL:https://teamsters493.org/event/pension-schedule-date-11/
LOCATION:Conference call\, United States
CATEGORIES:Pension Schedule Dates
END:VEVENT
BEGIN:VEVENT
DTSTART;TZID=America/New_York:20250807T090000
DTEND;TZID=America/New_York:20250807T133000
DTSTAMP:20260422T120358
CREATED:20210131T162718Z
LAST-MODIFIED:20250505T154102Z
UID:348-1754557200-1754573400@teamsters493.org
SUMMARY:Pension Schedule Date
DESCRIPTION:
URL:https://teamsters493.org/event/pension-schedule-date-9/
LOCATION:Conference call\, United States
CATEGORIES:Pension Schedule Dates
END:VEVENT
BEGIN:VEVENT
DTSTART;TZID=America/New_York:20250703T090000
DTEND;TZID=America/New_York:20250703T133000
DTSTAMP:20260422T120358
CREATED:20210131T162630Z
LAST-MODIFIED:20250505T154834Z
UID:346-1751533200-1751549400@teamsters493.org
SUMMARY:Pension Schedule Date
DESCRIPTION:
URL:https://teamsters493.org/event/pension-schedule-date-8/
LOCATION:Conference call\, United States
CATEGORIES:Pension Schedule Dates
END:VEVENT
BEGIN:VEVENT
DTSTART;TZID=America/New_York:20250608T100000
DTEND;TZID=America/New_York:20250608T100000
DTSTAMP:20260422T120358
CREATED:20220205T133708Z
LAST-MODIFIED:20250502T174336Z
UID:514-1749376800-1749376800@teamsters493.org
SUMMARY:Quarterly Membership Meeting
DESCRIPTION:
URL:https://teamsters493.org/event/quarterly-membership-meeting-6/
LOCATION:Polish Club\, 85 Maple Ave\, Uncasville\, United States
CATEGORIES:Quarterly Meetings
END:VEVENT
BEGIN:VEVENT
DTSTART;TZID=America/New_York:20250605T090000
DTEND;TZID=America/New_York:20250605T133000
DTSTAMP:20260422T120358
CREATED:20210131T162529Z
LAST-MODIFIED:20250505T154810Z
UID:344-1749114000-1749130200@teamsters493.org
SUMMARY:Pension Schedule Date
DESCRIPTION:
URL:https://teamsters493.org/event/pension-schedule-date-7/
LOCATION:Conference call\, United States
CATEGORIES:Pension Schedule Dates
END:VEVENT
BEGIN:VEVENT
DTSTART;TZID=America/New_York:20250515T090000
DTEND;TZID=America/New_York:20250515T133000
DTSTAMP:20260422T120358
CREATED:20210131T162429Z
LAST-MODIFIED:20250505T153036Z
UID:342-1747299600-1747315800@teamsters493.org
SUMMARY:Pension Schedule Date
DESCRIPTION:
URL:https://teamsters493.org/event/pension-schedule-date-6/
LOCATION:Conference call\, United States
CATEGORIES:Pension Schedule Dates
END:VEVENT
BEGIN:VEVENT
DTSTART;TZID=America/New_York:20250403T090000
DTEND;TZID=America/New_York:20250403T133000
DTSTAMP:20260422T120358
CREATED:20210131T162108Z
LAST-MODIFIED:20250505T154731Z
UID:338-1743670800-1743687000@teamsters493.org
SUMMARY:Pension Schedule Date
DESCRIPTION:
URL:https://teamsters493.org/event/pension-schedule-date-4/
LOCATION:Conference call\, United States
CATEGORIES:Pension Schedule Dates
END:VEVENT
BEGIN:VEVENT
DTSTART;TZID=America/New_York:20250313T090000
DTEND;TZID=America/New_York:20250313T133000
DTSTAMP:20260422T120358
CREATED:20210131T161847Z
LAST-MODIFIED:20250505T154709Z
UID:336-1741856400-1741872600@teamsters493.org
SUMMARY:Pension Schedule Date
DESCRIPTION:
URL:https://teamsters493.org/event/pension-schedule-date-3/
LOCATION:Conference call\, United States
CATEGORIES:Pension Schedule Dates
END:VEVENT
BEGIN:VEVENT
DTSTART;TZID=America/New_York:20250309T100000
DTEND;TZID=America/New_York:20250309T100000
DTSTAMP:20260422T120358
CREATED:20220205T133619Z
LAST-MODIFIED:20250505T152615Z
UID:512-1741514400-1741514400@teamsters493.org
SUMMARY:Quarterly Membership Meeting
DESCRIPTION:
URL:https://teamsters493.org/event/quarterly-membership-meeting-5/
LOCATION:Polish Club\, 85 Maple Ave\, Uncasville\, United States
CATEGORIES:Quarterly Meetings
END:VEVENT
BEGIN:VEVENT
DTSTART;TZID=America/New_York:20250206T090000
DTEND;TZID=America/New_York:20250206T133000
DTSTAMP:20260422T120358
CREATED:20210131T161805Z
LAST-MODIFIED:20250505T154614Z
UID:334-1738832400-1738848600@teamsters493.org
SUMMARY:Pension Schedule Date
DESCRIPTION:
URL:https://teamsters493.org/event/pension-schedule-date-2/
LOCATION:Conference call\, United States
CATEGORIES:Pension Schedule Dates
END:VEVENT
BEGIN:VEVENT
DTSTART;TZID=America/New_York:20250109T090000
DTEND;TZID=America/New_York:20250109T133000
DTSTAMP:20260422T120358
CREATED:20210731T151723Z
LAST-MODIFIED:20250505T154524Z
UID:332-1736413200-1736429400@teamsters493.org
SUMMARY:Pension Schedule Date
DESCRIPTION:
URL:https://teamsters493.org/event/pension-schedule-date/
LOCATION:Conference call\, United States
CATEGORIES:Pension Schedule Dates
END:VEVENT
END:VCALENDAR